BEGIN:VCALENDAR
VERSION:2.0
PRODID:-//Squarespace Inc/Squarespace 6//v6//EN
BEGIN:VEVENT
UID:5aceb3e48a922debacf29564@squarespace.com
DTSTAMP:20180412T011906Z
DTSTART:20180927T232000Z
DTEND:20180928T043500Z
SUMMARY:Last day Term 3
END:VEVENT
END:VCALENDAR
