BEGIN:VCALENDAR
VERSION:2.0
PRODID:-//Squarespace Inc/Squarespace 6//v6//EN
BEGIN:VEVENT
UID:5b56b5350e2e72bb9324c16b@squarespace.com
DTSTAMP:20180724T053135Z
DTSTART:20180925T232000Z
DTEND:20180926T043500Z
SUMMARY:Woodhouse Camp Rm 14 & 15
END:VEVENT
END:VCALENDAR
