BEGIN:VCALENDAR
VERSION:2.0
PRODID:-//Squarespace Inc/Squarespace 6//v6//EN
BEGIN:VEVENT
UID:5b56b4ee70a6ad96923da667@squarespace.com
DTSTAMP:20180724T051200Z
DTSTART:20180920T232000Z
DTEND:20180921T053500Z
SUMMARY:SACA Cricket Clinics R - 4
END:VEVENT
END:VCALENDAR
