BEGIN:VCALENDAR
VERSION:2.0
PRODID:-//Squarespace Inc/Squarespace 6//v6//EN
BEGIN:VEVENT
UID:5b56b4b66d2a732d89647367@squarespace.com
DTSTAMP:20180724T051042Z
DTSTART:20180911T013000Z
DTEND:20180911T031000Z
SUMMARY:Willunga High School Transition Visit
END:VEVENT
END:VCALENDAR
