BEGIN:VCALENDAR
VERSION:2.0
PRODID:-//Squarespace Inc/Squarespace 6//v6//EN
BEGIN:VEVENT
UID:5b56b25c8a922dbc85fd448a@squarespace.com
DTSTAMP:20180724T072646Z
DTSTART:20180805T232000Z
DTEND:20180809T173500Z
SUMMARY:Year 3 & 4 Swimming Week
END:VEVENT
END:VCALENDAR
