BEGIN:VCALENDAR
VERSION:2.0
PRODID:-//Squarespace Inc/Squarespace 6//v6//EN
BEGIN:VEVENT
UID:5b692c2a2b6a28624c0dc015@squarespace.com
DTSTAMP:20180807T052358Z
DTSTART:20180829T233000Z
DTEND:20180830T053000Z
SUMMARY:Morialta Excursion - Receptions
END:VEVENT
END:VCALENDAR
