BEGIN:VCALENDAR
VERSION:2.0
PRODID:-//Squarespace Inc/Squarespace 6//v6//EN
BEGIN:VEVENT
UID:5b56b332575d1fb3afc2237d@squarespace.com
DTSTAMP:20180724T072541Z
DTSTART:20180821T232000Z
DTEND:20180824T053500Z
SUMMARY:El Shaddai Camp\, Rm 18 & 19
END:VEVENT
END:VCALENDAR
