BEGIN:VCALENDAR
VERSION:2.0
PRODID:-//Squarespace Inc/Squarespace 6//v6//EN
BEGIN:VEVENT
UID:5b56b39988251b712611741b@squarespace.com
DTSTAMP:20180724T051744Z
DTSTART:20180819T232000Z
DTEND:20180824T053500Z
SUMMARY:Book Week!
END:VEVENT
END:VCALENDAR
