BEGIN:VCALENDAR
VERSION:2.0
PRODID:-//Squarespace Inc/Squarespace 6//v6//EN
BEGIN:VEVENT
UID:5b56bf810e2e72bb9325dbe7@squarespace.com
DTSTAMP:20180724T060018Z
DTSTART:20180802T091000Z
DTEND:20180802T101000Z
SUMMARY:Growth & Development Family Info night
END:VEVENT
END:VCALENDAR
