BEGIN:VCALENDAR
VERSION:2.0
PRODID:-//Squarespace Inc/Squarespace 6//v6//EN
BEGIN:VEVENT
UID:5b56b2fe70a6ad96923d68b8@squarespace.com
DTSTAMP:20180724T050330Z
DTSTART:20180815T232000Z
DTEND:20180816T053500Z
SUMMARY:STUDENT FREE DAY
END:VEVENT
END:VCALENDAR
