BEGIN:VCALENDAR
VERSION:2.0
PRODID:-//Squarespace Inc/Squarespace 6//v6//EN
BEGIN:VEVENT
UID:5b56b2caaa4a997ca1c7cd3b@squarespace.com
DTSTAMP:20180724T050244Z
DTSTART:20180814T232000Z
DTEND:20180815T053500Z
SUMMARY:STUDENT FREE DAY
END:VEVENT
END:VCALENDAR
