BEGIN:VCALENDAR
VERSION:2.0
PRODID:-//Squarespace Inc/Squarespace 6//v6//EN
BEGIN:VEVENT
UID:5b56c0aaaa4a997ca1c95470@squarespace.com
DTSTAMP:20180724T060526Z
DTSTART:20180812T232000Z
DTEND:20180813T053500Z
SUMMARY:Growth & Development Yr 6/7
END:VEVENT
END:VCALENDAR
