BEGIN:VCALENDAR
VERSION:2.0
PRODID:-//Squarespace Inc/Squarespace 6//v6//EN
BEGIN:VEVENT
UID:5b56c24d562fa765b75e4aea@squarespace.com
DTSTAMP:20180724T060922Z
DTSTART:20180828T232000Z
DTEND:20180829T053500Z
SUMMARY:Growth & Development Yr 5
END:VEVENT
END:VCALENDAR
