BEGIN:VCALENDAR
VERSION:2.0
PRODID:-//Squarespace Inc/Squarespace 6//v6//EN
BEGIN:VEVENT
UID:5b56c1ef562fa765b75e40d2@squarespace.com
DTSTAMP:20180724T060719Z
DTSTART:20180826T232000Z
DTEND:20180827T053500Z
SUMMARY:Growth & Development Yr 6/7
END:VEVENT
END:VCALENDAR
