BEGIN:VCALENDAR
VERSION:2.0
PRODID:-//Squarespace Inc/Squarespace 6//v6//EN
BEGIN:VEVENT
UID:5b56c2231ae6cf85cd3cc663@squarespace.com
DTSTAMP:20180724T060748Z
DTSTART:20180902T232000Z
DTEND:20180903T053500Z
SUMMARY:Growth & Development Yr 6/7
END:VEVENT
END:VCALENDAR
