BEGIN:VCALENDAR
VERSION:2.0
PRODID:-//Squarespace Inc/Squarespace 6//v6//EN
BEGIN:VEVENT
UID:5aceb1a26d2a73de677c86c4@squarespace.com
DTSTAMP:20180412T011106Z
DTSTART:20180705T232000Z
DTEND:20180706T043500Z
SUMMARY:Last day Term 2
END:VEVENT
END:VCALENDAR
