BEGIN:VCALENDAR
VERSION:2.0
PRODID:-//Squarespace Inc/Squarespace 6//v6//EN
BEGIN:VEVENT
UID:5aceb478352f53c9cac86db4@squarespace.com
DTSTAMP:20180412T012134Z
DTSTART:20180703T232000Z
DTEND:20180704T053500Z
SUMMARY:Reports sent home today
END:VEVENT
END:VCALENDAR
