BEGIN:VCALENDAR
VERSION:2.0
PRODID:-//Squarespace Inc/Squarespace 6//v6//EN
BEGIN:VEVENT
UID:5b56b1e7f950b7329f2e40c6@squarespace.com
DTSTAMP:20180724T072613Z
DTSTART:20180729T232000Z
DTEND:20180731T173500Z
SUMMARY:Mylor Camp\, Rms 1\,2\,3
END:VEVENT
END:VCALENDAR
