BEGIN:VCALENDAR
VERSION:2.0
PRODID:-//Squarespace Inc/Squarespace 6//v6//EN
BEGIN:VEVENT
UID:5aceb3b51ae6cf7713742f7b@squarespace.com
DTSTAMP:20180412T011814Z
DTSTART:20180722T232000Z
DTEND:20180723T053500Z
SUMMARY:First day Term 3
END:VEVENT
END:VCALENDAR
