BEGIN:VCALENDAR
VERSION:2.0
PRODID:-//Squarespace Inc/Squarespace 6//v6//EN
BEGIN:VEVENT
UID:5b288c0a6d2a73363e944589@squarespace.com
DTSTAMP:20180619T045435Z
DTSTART:20180719T214000Z
DTEND:20180720T090000Z
SUMMARY:Vacation Care
END:VEVENT
END:VCALENDAR
