BEGIN:VCALENDAR
VERSION:2.0
PRODID:-//Squarespace Inc/Squarespace 6//v6//EN
BEGIN:VEVENT
UID:5b0cf692352f53c0a55d2114@squarespace.com
DTSTAMP:20180529T064734Z
DTSTART:20180611T232000Z
DTEND:20180612T053500Z
SUMMARY:SA Museum Excursion
END:VEVENT
END:VCALENDAR
