BEGIN:VCALENDAR
VERSION:2.0
PRODID:-//Squarespace Inc/Squarespace 6//v6//EN
BEGIN:VEVENT
UID:5afbd7ac03ce641323a46b8c@squarespace.com
DTSTAMP:20180516T070535Z
DTSTART:20180627T233000Z
DTEND:20180628T013000Z
SUMMARY:Principal's Tour
END:VEVENT
END:VCALENDAR
