BEGIN:VCALENDAR
VERSION:2.0
PRODID:-//Squarespace Inc/Squarespace 6//v6//EN
BEGIN:VEVENT
UID:5b0cfedc6d2a73781c5aa06b@squarespace.com
DTSTAMP:20180529T071911Z
DTSTART:20180625T054500Z
DTEND:20180625T064500Z
SUMMARY:Governing Council: Grounds Subcommittee
END:VEVENT
END:VCALENDAR
