BEGIN:VCALENDAR
VERSION:2.0
PRODID:-//Squarespace Inc/Squarespace 6//v6//EN
BEGIN:VEVENT
UID:5b56b7b8575d1fb3afc2a4be@squarespace.com
DTSTAMP:20180724T052322Z
DTSTART:20180806T054500Z
DTEND:20180806T064500Z
SUMMARY:Governing Council: Grounds Subcommittee
END:VEVENT
END:VCALENDAR
