BEGIN:VCALENDAR
VERSION:2.0
PRODID:-//Squarespace Inc/Squarespace 6//v6//EN
BEGIN:VEVENT
UID:5aa9cb8241920244ff705595@squarespace.com
DTSTAMP:20180318T231000Z
DTSTART:20180620T232000Z
DTEND:20180622T053500Z
SUMMARY:School Photos
END:VEVENT
END:VCALENDAR
