BEGIN:VCALENDAR
VERSION:2.0
PRODID:-//Squarespace Inc/Squarespace 6//v6//EN
BEGIN:VEVENT
UID:5b0cfeaa575d1fdde9c2a561@squarespace.com
DTSTAMP:20180529T071835Z
DTSTART:20180619T090000Z
DTEND:20180619T103000Z
SUMMARY:Governing Council Meeting
END:VEVENT
END:VCALENDAR
