BEGIN:VCALENDAR
VERSION:2.0
PRODID:-//Squarespace Inc/Squarespace 6//v6//EN
BEGIN:VEVENT
UID:5b56b715575d1fb3afc29387@squarespace.com
DTSTAMP:20180724T052208Z
DTSTART:20180911T090000Z
DTEND:20180911T103000Z
SUMMARY:Governing Council Meeting
END:VEVENT
END:VCALENDAR
