BEGIN:VCALENDAR
VERSION:2.0
PRODID:-//Squarespace Inc/Squarespace 6//v6//EN
BEGIN:VEVENT
UID:5b56b7e71ae6cf85cd3bb658@squarespace.com
DTSTAMP:20180724T052406Z
DTSTART:20180807T090000Z
DTEND:20180807T103000Z
SUMMARY:Governing Council Meeting
END:VEVENT
END:VCALENDAR
