BEGIN:VCALENDAR
VERSION:2.0
PRODID:-//Squarespace Inc/Squarespace 6//v6//EN
BEGIN:VEVENT
UID:5b0cfe8a1ae6cf7505be730f@squarespace.com
DTSTAMP:20180529T071754Z
DTSTART:20180614T060000Z
DTEND:20180614T070000Z
SUMMARY:Governing Council: Finance Subcommittee
END:VEVENT
END:VCALENDAR
