BEGIN:VCALENDAR
VERSION:2.0
PRODID:-//Squarespace Inc/Squarespace 6//v6//EN
BEGIN:VEVENT
UID:5b56b84e758d46352173262c@squarespace.com
DTSTAMP:20180724T052603Z
DTSTART:20180802T054500Z
DTEND:20180802T064500Z
SUMMARY:Governing Council: Finance Subcommittee
END:VEVENT
END:VCALENDAR
