BEGIN:VCALENDAR
VERSION:2.0
PRODID:-//Squarespace Inc/Squarespace 6//v6//EN
BEGIN:VEVENT
UID:5b56ba39562fa765b75d77aa@squarespace.com
DTSTAMP:20180724T053428Z
DTSTART:20180906T054500Z
DTEND:20180906T064500Z
SUMMARY:Governing Council: Finance Subcommittee
END:VEVENT
END:VCALENDAR
