BEGIN:VCALENDAR
VERSION:2.0
PRODID:-//Squarespace Inc/Squarespace 6//v6//EN
BEGIN:VEVENT
UID:5b0cf7912b6a288855d24e0f@squarespace.com
DTSTAMP:20180529T064919Z
DTSTART:20180612T232000Z
DTEND:20180613T053500Z
SUMMARY:Art Gallery & Museum - Rm 1\,2&3
END:VEVENT
END:VCALENDAR
