BEGIN:VCALENDAR
VERSION:2.0
PRODID:-//Squarespace Inc/Squarespace 6//v6//EN
BEGIN:VEVENT
UID:5b0cfe55562fa7e07b361bc7@squarespace.com
DTSTAMP:20180529T071718Z
DTSTART:20180612T074500Z
DTEND:20180612T084500Z
SUMMARY:Governing Council: Education Subcommittee
END:VEVENT
END:VCALENDAR
