BEGIN:VCALENDAR
VERSION:2.0
PRODID:-//Squarespace Inc/Squarespace 6//v6//EN
BEGIN:VEVENT
UID:5b56b8ba6d2a732d8964e037@squarespace.com
DTSTAMP:20180724T052853Z
DTSTART:20180904T074500Z
DTEND:20180904T084500Z
SUMMARY:Governing Council: Education Subcommittee
END:VEVENT
END:VCALENDAR
