BEGIN:VCALENDAR
VERSION:2.0
PRODID:-//Squarespace Inc/Squarespace 6//v6//EN
BEGIN:VEVENT
UID:5afbd706352f53e7259408af@squarespace.com
DTSTAMP:20180516T070220Z
DTSTART:20180530T233000Z
DTEND:20180531T013000Z
SUMMARY:Volunteer & RAN training
END:VEVENT
END:VCALENDAR
