BEGIN:VCALENDAR
VERSION:2.0
PRODID:-//Squarespace Inc/Squarespace 6//v6//EN
BEGIN:VEVENT
UID:5aa9cc6453450a6f4ddb0015@squarespace.com
DTSTAMP:20180318T230944Z
DTSTART:20180527T023000Z
DTEND:20180603T023000Z
SUMMARY:Reconciliation Week
END:VEVENT
END:VCALENDAR
