BEGIN:VCALENDAR
VERSION:2.0
PRODID:-//Squarespace Inc/Squarespace 6//v6//EN
BEGIN:VEVENT
UID:5ab847fc758d46cbe6408dd4@squarespace.com
DTSTAMP:20180326T011143Z
DTSTART:20180517T232000Z
DTEND:20180518T053500Z
SUMMARY:Walk Safely to School Day
END:VEVENT
END:VCALENDAR
