BEGIN:VCALENDAR
VERSION:2.0
PRODID:-//Squarespace Inc/Squarespace 6//v6//EN
BEGIN:VEVENT
UID:5aa9ca7cf9619ada9287600f@squarespace.com
DTSTAMP:20180318T230923Z
DTSTART:20180514T232000Z
DTEND:20180517T053500Z
SUMMARY:NAPLAN (Yr 3 & 5)
END:VEVENT
END:VCALENDAR
