BEGIN:VCALENDAR
VERSION:2.0
PRODID:-//Squarespace Inc/Squarespace 6//v6//EN
BEGIN:VEVENT
UID:5a8a145141920223d0a40ea2@squarespace.com
DTSTAMP:20180405T025149Z
DTSTART:20180510T232000Z
DTEND:20180511T053500Z
SUMMARY:Sports Day!
END:VEVENT
END:VCALENDAR
