BEGIN:VCALENDAR
VERSION:2.0
PRODID:-//Squarespace Inc/Squarespace 6//v6//EN
BEGIN:VEVENT
UID:5a84bff024a69403d71470ad@squarespace.com
DTSTAMP:20180214T234738Z
DTSTART:20180408T232000Z
DTEND:20180412T173500Z
SUMMARY:R - 2 Junior Primary Swimming
END:VEVENT
END:VCALENDAR
