BEGIN:VCALENDAR
VERSION:2.0
PRODID:-//Squarespace Inc/Squarespace 6//v6//EN
BEGIN:VEVENT
UID:5a8239f9e2c483430a26bc90@squarespace.com
DTSTAMP:20180218T231352Z
DTSTART:20180405T230000Z
DTEND:20180406T054500Z
SUMMARY:School Fees DUE
END:VEVENT
END:VCALENDAR
