BEGIN:VCALENDAR
VERSION:2.0
PRODID:-//Squarespace Inc/Squarespace 6//v6//EN
BEGIN:VEVENT
UID:5aa09362f9619ad9aaa728af@squarespace.com
DTSTAMP:20180318T224427Z
DTSTART:20180404T053500Z
DTEND:20180405T090000Z
SUMMARY:Three Way Conferences
END:VEVENT
END:VCALENDAR
