BEGIN:VCALENDAR
VERSION:2.0
PRODID:-//Squarespace Inc/Squarespace 6//v6//EN
BEGIN:VEVENT
UID:5ab2e85e88251b5549862879@squarespace.com
DTSTAMP:20180321T232442Z
DTSTART:20180429T232000Z
DTEND:20180430T053500Z
SUMMARY:STUDENT FREE DAY
END:VEVENT
END:VCALENDAR
