BEGIN:VCALENDAR
VERSION:2.0
PRODID:-//Squarespace Inc/Squarespace 6//v6//EN
BEGIN:VEVENT
UID:5aaeeff36d2a7312c16c1d27@squarespace.com
DTSTAMP:20180410T235723Z
DTSTART:20180415T214000Z
DTEND:20180427T090000Z
SUMMARY:School Holidays - Vacation Care
END:VEVENT
END:VCALENDAR
