BEGIN:VCALENDAR
VERSION:2.0
PRODID:-//Squarespace Inc/Squarespace 6//v6//EN
BEGIN:VEVENT
UID:5a83aed6c83025363e3045de@squarespace.com
DTSTAMP:20180220T003240Z
DTSTART:20180412T232000Z
DTEND:20180413T043500Z
SUMMARY:Last day Term 1
END:VEVENT
END:VCALENDAR
