BEGIN:VCALENDAR
VERSION:2.0
PRODID:-//Squarespace Inc/Squarespace 6//v6//EN
BEGIN:VEVENT
UID:5a84c12e0852295967ca3116@squarespace.com
DTSTAMP:20180214T235222Z
DTSTART:20180304T222000Z
DTEND:20180309T043500Z
SUMMARY:Yr 4 to 7 Aquatics Program
END:VEVENT
END:VCALENDAR
