BEGIN:VCALENDAR
VERSION:2.0
PRODID:-//Squarespace Inc/Squarespace 6//v6//EN
BEGIN:VEVENT
UID:5aa08b194192022702835e59@squarespace.com
DTSTAMP:20180308T013349Z
DTSTART:20180328T222000Z
DTEND:20180329T043500Z
SUMMARY:STUDENT FREE DAY
END:VEVENT
END:VCALENDAR
