BEGIN:VCALENDAR
VERSION:2.0
PRODID:-//Squarespace Inc/Squarespace 6//v6//EN
BEGIN:VEVENT
UID:5a972d9ff9619afc6c279291@squarespace.com
DTSTAMP:20180318T224406Z
DTSTART:20180326T044000Z
DTEND:20180328T080000Z
SUMMARY:Three Way Conferences
END:VEVENT
END:VCALENDAR
