BEGIN:VCALENDAR
VERSION:2.0
PRODID:-//Squarespace Inc/Squarespace 6//v6//EN
BEGIN:VEVENT
UID:5aaf042b70a6adbf54d88208@squarespace.com
DTSTAMP:20180320T001759Z
DTSTART:20180321T223000Z
DTEND:20180322T021500Z
SUMMARY:Kyogen & Rakugo Performances
END:VEVENT
END:VCALENDAR
