BEGIN:VCALENDAR
VERSION:2.0
PRODID:-//Squarespace Inc/Squarespace 6//v6//EN
BEGIN:VEVENT
UID:5a8a0f7a9140b7effc01340a@squarespace.com
DTSTAMP:20180218T235230Z
DTSTART:20180320T222000Z
DTEND:20180321T043500Z
SUMMARY:Harmony Day
END:VEVENT
END:VCALENDAR
